BEGIN:VCALENDAR
PRODID:-//github.com/rianjs/ical.net//NONSGML ical.net 4.0//EN
VERSION:2.0
BEGIN:VEVENT
DESCRIPTION:Kennenlerntour durch Stuttgarter Stadtteile\nhttps://touren-te
 rmine.adfc.de/radveranstaltung/129571-fahrradstadtteiltour-stuttgart-nord
 westen
DTEND:20240727T150000Z
DTSTAMP:20260424T144538Z
DTSTART:20240727T120000Z
LOCATION:Wilhelm-Geiger-Platz 10\, 70469 Stuttgart
SEQUENCE:0
SUMMARY:Fahrrad-Stadtteiltour Stuttgart Nordwesten
UID:1effa3ad-7e30-49c7-a1be-fd61a8203354
URL:https://touren-termine.adfc.de/radveranstaltung/129571-fahrradstadttei
 ltour-stuttgart-nordwesten
END:VEVENT
END:VCALENDAR
