BEGIN:VCALENDAR
PRODID:-//github.com/rianjs/ical.net//NONSGML ical.net 4.0//EN
VERSION:2.0
BEGIN:VEVENT
DESCRIPTION:Der Kreisverband Kempten-Oberallgäu und Böck & Bike bieten wie
 der Ü50 Pedelec-Fahrsicherheits-Trainingskurse an. \nFür mehr Spaß und Si
 cherheit auf dem Pedelec\nhttps://touren-termine.adfc.de/radveranstaltung
 /159559-pedelecfahrsicherheitstraining-u50
DTEND:20250615T123000Z
DTSTAMP:20260424T150450Z
DTSTART:20250615T070000Z
LOCATION:Am Königsplatz\, 87435 Kempten (Allgäu)
SEQUENCE:0
SUMMARY:Pedelec-Fahrsicherheits-Training Ü50
UID:4ee81a4a-d307-40f7-9904-ef6dd9b14705
URL:https://touren-termine.adfc.de/radveranstaltung/159559-pedelecfahrsich
 erheitstraining-u50
END:VEVENT
END:VCALENDAR
