BEGIN:VCALENDAR
PRODID:-//github.com/rianjs/ical.net//NONSGML ical.net 4.0//EN
VERSION:2.0
BEGIN:VEVENT
DESCRIPTION:Fahrsicherheitstraining für Erwachsene. Auffrischung und Train
 ing der praktischen Grundkenntnisse der Fahrtechnik.\nAnmeldung bis 10.06
 .2025\nhttps://touren-termine.adfc.de/radveranstaltung/145829-fahrsicherh
 eitstraining-in-marktoberdorf-level-1
DTEND:20250612T170000Z
DTSTAMP:20260419T155843Z
DTSTART:20250612T140000Z
LOCATION:Verkehrsübungsplatz an der Adalbert-Stifter Schule\, Schwabenstra
 ße 53\, Marktoberdorf\, 87616 Marktoberdorf
SEQUENCE:0
SUMMARY:Fahrsicherheitstraining in Marktoberdorf - Level 1
UID:2e80ce95-0036-4c91-9d00-2d4379805e9a
URL:https://touren-termine.adfc.de/radveranstaltung/145829-fahrsicherheits
 training-in-marktoberdorf-level-1
END:VEVENT
END:VCALENDAR
