BEGIN:VCALENDAR
PRODID:-//github.com/rianjs/ical.net//NONSGML ical.net 4.0//EN
VERSION:2.0
BEGIN:VEVENT
DESCRIPTION:Radfahrer*innen treffen sich anscheinend zufällig und unorgani
 siert.\nhttps://touren-termine.adfc.de/radveranstaltung/167775-critical-m
 ass-hamburg
DTEND:20250627T200000Z
DTSTAMP:20260420T230946Z
DTSTART:20250627T170000Z
LOCATION:Feldstraße\, 20359 Hamburg
SEQUENCE:0
SUMMARY:Critical Mass Hamburg
UID:ac254740-afa0-43e5-b9f9-c00c55098258
URL:https://touren-termine.adfc.de/radveranstaltung/167775-critical-mass-h
 amburg
END:VEVENT
END:VCALENDAR
