BEGIN:VCALENDAR
PRODID:-//github.com/rianjs/ical.net//NONSGML ical.net 4.0//EN
VERSION:2.0
BEGIN:VEVENT
DESCRIPTION:Beim Globetrotter Freiluft Testival am Fühlinger See könnt Ihr
  Euer Fahrrad kostenlos codieren lassen!\nhttps://touren-termine.adfc.de/
 radveranstaltung/164292-kostenlose-adfcfahrradcodierung-am-fuhlinger-see
DTEND:20250426T160000Z
DTSTAMP:20260421T103253Z
DTSTART:20250426T080000Z
LOCATION:Blackfoot Beach\, Fühlinger See\, 50769 Köln
SEQUENCE:0
SUMMARY:Kostenlose ADFC-Fahrradcodierung am Fühlinger See
UID:56b0c37b-daf6-499a-9e0c-e0d380e0e6db
URL:https://touren-termine.adfc.de/radveranstaltung/164292-kostenlose-adfc
 fahrradcodierung-am-fuhlinger-see
END:VEVENT
END:VCALENDAR
