BEGIN:VCALENDAR
PRODID:-//github.com/rianjs/ical.net//NONSGML ical.net 4.0//EN
VERSION:2.0
BEGIN:VEVENT
DESCRIPTION:Jeden Mittwoch vom 1.4. bis zum 31.8.2026\nStart 18.oo am Rath
 aus Gbw\, ca 30km\nhttps://touren-termine.adfc.de/radveranstaltung/192727
 -kurztour
DTEND:20260513T180000Z
DTSTAMP:20260423T183418Z
DTSTART:20260513T160000Z
LOCATION:Fuhrberger Straße 4\, 30938 Burgwedel
SEQUENCE:0
SUMMARY:Kurztour
UID:4c55031a-64cf-4429-b2f3-def999813ebf
URL:https://touren-termine.adfc.de/radveranstaltung/192727-kurztour
END:VEVENT
END:VCALENDAR
