BEGIN:VCALENDAR
PRODID:-//github.com/rianjs/ical.net//NONSGML ical.net 4.0//EN
VERSION:2.0
BEGIN:VEVENT
DESCRIPTION:Wir helfen und geben Tipps zur Reparatur\, Pflege und Wartung 
 eurer Fahrräder\nhttps://touren-termine.adfc.de/radveranstaltung/190213-r
 adreparaturcafe
DTEND:20260502T130000Z
DTSTAMP:20260421T190541Z
DTSTART:20260502T090000Z
LOCATION:WIWOZU\, Südring 23\, 45525 Hattingen
SEQUENCE:0
SUMMARY:RadReparaturCafé
UID:e7b42edb-210d-4c2c-81ab-f35c8cfef89a
URL:https://touren-termine.adfc.de/radveranstaltung/190213-radreparaturcafe
END:VEVENT
END:VCALENDAR
