BEGIN:VCALENDAR
PRODID:-//github.com/rianjs/ical.net//NONSGML ical.net 4.0//EN
VERSION:2.0
BEGIN:VEVENT
DESCRIPTION:Monatlicher Stammtisch von interessierten Radlerinnen und Radl
 ern. Jeweils am letzten Dienstag im \nMonat\nhttps://touren-termine.adfc.
 de/radveranstaltung/143747-radlertreff-des-adfc-hamburg
DTEND:20250225T220000Z
DTSTAMP:20260421T031428Z
DTSTART:20250225T180000Z
LOCATION:Gasthaus Quartier 21\, Fuhlsbüttler Straße 405\, 22309 Hamburg
SEQUENCE:0
SUMMARY:Radlertreff des ADFC Hamburg
UID:8ac20512-3549-4b91-9b32-07a8d9a1d344
URL:https://touren-termine.adfc.de/radveranstaltung/143747-radlertreff-des
 -adfc-hamburg
END:VEVENT
END:VCALENDAR
