BEGIN:VCALENDAR
PRODID:-//github.com/rianjs/ical.net//NONSGML ical.net 4.0//EN
VERSION:2.0
BEGIN:VEVENT
DESCRIPTION:Mehr Sicherheit für den Radverkehr durch StVO konforme Seitena
 bstände beim Überholen durch Kraftfahrzeuge\nhttps://touren-termine.adfc.
 de/radveranstaltung/84827-projektgruppe-openbikesensor
DTEND:20230911T180000Z
DTSTAMP:20260420T231124Z
DTSTART:20230911T163000Z
LOCATION:Koppel 34-36\, 20099 Hamburg
SEQUENCE:0
SUMMARY:Projektgruppe OpenBikeSensor
UID:d5fb4fb4-2931-4001-9a29-b49850a00c96
URL:https://touren-termine.adfc.de/radveranstaltung/84827-projektgruppe-op
 enbikesensor
END:VEVENT
END:VCALENDAR
