BEGIN:VCALENDAR
PRODID:-//github.com/rianjs/ical.net//NONSGML ical.net 4.0//EN
VERSION:2.0
BEGIN:VEVENT
DESCRIPTION:ADFC-Fahrradcodierung in der Geschäftsstelle\nhttps://touren-t
 ermine.adfc.de/radveranstaltung/146006-fahrradcodierung-adfc-leverkusen-s
 eptember
DTEND:20250915T120000Z
DTSTAMP:20260419T155729Z
DTSTART:20250915T090000Z
LOCATION:ADFC-Geschäftsstelle\, Freiherr-vom-Stein-Straße 5a\, 51379 Lever
 kusen
SEQUENCE:0
SUMMARY:Fahrradcodierung ADFC Leverkusen September
UID:c456cfbe-6c2d-4252-aa7f-7c199c32aedb
URL:https://touren-termine.adfc.de/radveranstaltung/146006-fahrradcodierun
 g-adfc-leverkusen-september
END:VEVENT
END:VCALENDAR
