BEGIN:VCALENDAR
PRODID:-//github.com/rianjs/ical.net//NONSGML ical.net 4.0//EN
VERSION:2.0
BEGIN:VEVENT
DESCRIPTION:Ab Bahnhof Spandau fahren wir durch die westliche Industriereg
 ion Berlins und lernen bedeutende Zeugnisse der Berliner Industriekultur 
 kennen.\nhttps://touren-termine.adfc.de/radveranstaltung/197473-industrie
 kultur-erleben-tour-ab-spandau
DTEND:20260620T130000Z
DTSTAMP:20260424T143009Z
DTSTART:20260620T090000Z
LOCATION:Bhf. Berlin Spandau\, Ausgang Spandau Arcaden\, 13597 Berlin
SEQUENCE:0
SUMMARY:Industriekultur erleben - Tour ab Spandau
UID:a9302386-0f92-4d97-808a-8aa008f88155
URL:https://touren-termine.adfc.de/radveranstaltung/197473-industriekultur
 -erleben-tour-ab-spandau
END:VEVENT
END:VCALENDAR
