BEGIN:VCALENDAR
PRODID:-//github.com/rianjs/ical.net//NONSGML ical.net 4.0//EN
VERSION:2.0
BEGIN:VEVENT
DESCRIPTION:Auftakttour Stadtradeln 2025 (SR25) GBW - Sammelpunkt Steuernd
 ieb\nhttps://touren-termine.adfc.de/radveranstaltung/165100-sr25-15-km-st
 euerndieb
DTEND:20250518T092000Z
DTSTAMP:20260423T105555Z
DTSTART:20250518T080000Z
LOCATION:Fuhrberger Straße 4\, 30938 Burgwedel
SEQUENCE:0
SUMMARY:SR25 15 km Steuerndieb
UID:c7afbbc3-dc74-4cc5-a88e-cad398b3df73
URL:https://touren-termine.adfc.de/radveranstaltung/165100-sr25-15-km-steu
 erndieb
END:VEVENT
END:VCALENDAR
