BEGIN:VCALENDAR
PRODID:-//github.com/rianjs/ical.net//NONSGML ical.net 4.0//EN
VERSION:2.0
BEGIN:VEVENT
DESCRIPTION:Herzliche Einladung zur Radlwallfahrt zum Kloster Benediktbeue
 rn.  \nGenuss der Natur\, Geselligkeit\, Gemeinschaft und geistliche Impu
 lse.\nhttps://touren-termine.adfc.de/radveranstaltung/165054-radlwallfahr
 t-zum-kloster-benediktbeuern
DTEND:20250524T150000Z
DTSTAMP:20260425T150335Z
DTSTART:20250524T070000Z
LOCATION:Christuskirche\, Ammerseestraße 15\, 82131 Gauting
SEQUENCE:0
SUMMARY:Radlwallfahrt zum Kloster Benediktbeuern
UID:173e6695-80b2-4848-9775-e713e90a8ad0
URL:https://touren-termine.adfc.de/radveranstaltung/165054-radlwallfahrt-z
 um-kloster-benediktbeuern
END:VEVENT
END:VCALENDAR
