BEGIN:VCALENDAR
PRODID:-//github.com/rianjs/ical.net//NONSGML ical.net 4.0//EN
VERSION:2.0
BEGIN:VEVENT
DESCRIPTION:Der Weg führt uns zum idyllischen Ort mit historischen Charme 
 namens Wappersdorf. In der Atmosphäre eines fast 700 Jahre alten Denkmals
  lassen wir im Schloss-Biergarten den Abend ausklingen.\nhttps://touren-t
 ermine.adfc.de/radveranstaltung/103651-zum-schloss-wappersdorf
DTEND:20230706T190000Z
DTSTAMP:20260424T231335Z
DTSTART:20230706T160000Z
LOCATION:Schauturm im LGS-Gelände\, Dr.-Kurz-Str.\,\, 92318 Neumarkt in de
 r Oberpfalz
SEQUENCE:0
SUMMARY:Zum Schloss Wappersdorf
UID:c5efe621-e2a9-43c8-9265-9bc4b9b5679e
URL:https://touren-termine.adfc.de/radveranstaltung/103651-zum-schloss-wap
 persdorf
END:VEVENT
END:VCALENDAR
