BEGIN:VCALENDAR
PRODID:-//github.com/rianjs/ical.net//NONSGML ical.net 4.0//EN
VERSION:2.0
BEGIN:VEVENT
DESCRIPTION:Interessierte können sich bei dem monatlichen Treffen unverbin
 dlich über die Möglichkeiten der GPS-Navigation informieren und austausch
 en.\nhttps://touren-termine.adfc.de/radveranstaltung/193218-gpsberatungss
 tammtisch-der-naviag
DTEND:20260303T210000Z
DTSTAMP:20260423T170018Z
DTSTART:20260303T180000Z
LOCATION:Heroldstraße 2\, 90408 Nürnberg
SEQUENCE:0
SUMMARY:GPS-Beratungsstammtisch der Navi-AG
UID:7bd95b2a-6e28-4a8e-87a9-e68bf2f295aa
URL:https://touren-termine.adfc.de/radveranstaltung/193218-gpsberatungssta
 mmtisch-der-naviag
END:VEVENT
END:VCALENDAR
