BEGIN:VCALENDAR
PRODID:-//github.com/rianjs/ical.net//NONSGML ical.net 4.0//EN
VERSION:2.0
BEGIN:VEVENT
DESCRIPTION:Romanik\, Klassik\, Bauhaus - Kul-Tour in der Mitte Deutschlan
 ds. Eine Radtour in 7 Etappen über 350 km voller Kultur.\nhttps://touren-
 termine.adfc.de/radveranstaltung/117757-romanik-klassik-bauhaus-etc
DTEND:20240615T160000Z
DTSTAMP:20260425T150452Z
DTSTART:20240608T060000Z
LOCATION:S-Bahnhof\, 82131 Gauting
SEQUENCE:0
SUMMARY:Romanik\, Klassik\, Bauhaus\, etc.
UID:b4c7588a-bf57-472c-9ad5-4bb2fe7e4a8d
URL:https://touren-termine.adfc.de/radveranstaltung/117757-romanik-klassik
 -bauhaus-etc
END:VEVENT
END:VCALENDAR
