BEGIN:VCALENDAR
PRODID:-//github.com/rianjs/ical.net//NONSGML ical.net 4.0//EN
VERSION:2.0
BEGIN:VEVENT
DESCRIPTION:ca. 45 km\, Start: Fanraute im BorussiaPark\, 24.09.2023\, 10:
 00 Uhr.\nhttps://touren-termine.adfc.de/radveranstaltung/106954-vom-nordp
 ark-uber-waldniel-nach-bruggen-und-zuruck
DTEND:20230924T120000Z
DTSTAMP:20260420T232652Z
DTSTART:20230924T080000Z
LOCATION:Dr.-Adalbert-Jordan-Straße\, 41179 Mönchengladbach
SEQUENCE:0
SUMMARY:Vom Nordpark über Waldniel nach Brüggen und zurück
UID:b8122d60-6e1f-44e2-8737-a9a8e724690d
URL:https://touren-termine.adfc.de/radveranstaltung/106954-vom-nordpark-ub
 er-waldniel-nach-bruggen-und-zuruck
END:VEVENT
END:VCALENDAR
