BEGIN:VCALENDAR
PRODID:-//github.com/rianjs/ical.net//NONSGML ical.net 4.0//EN
VERSION:2.0
BEGIN:VEVENT
DESCRIPTION:Die Tour mit Pedelecs ist nicht abgefahren. Deshalb ist mit Um
 wegen\, Sackgassen und anderem Ungemach zu rechen. \nAm Mittwoch entschei
 de ich nach Wetter. Teilnehmeranmeldung (max. 6 Personen)\nhttps://touren
 -termine.adfc.de/radveranstaltung/102768-explorationstour-sandhalde-niede
 rschelden
DTEND:20230608T130000Z
DTSTAMP:20260422T234319Z
DTSTART:20230608T070000Z
LOCATION:Marburger Straße 8\, Roter Platz\, 57223 Kreuztal
SEQUENCE:0
SUMMARY:Explorationstour Sandhalde Niederschelden
UID:1fd4d4d5-fe77-4740-888d-bfd1edebeda7
URL:https://touren-termine.adfc.de/radveranstaltung/102768-explorationstou
 r-sandhalde-niederschelden
END:VEVENT
END:VCALENDAR
