BEGIN:VCALENDAR
PRODID:-//github.com/rianjs/ical.net//NONSGML ical.net 4.0//EN
VERSION:2.0
BEGIN:VEVENT
DESCRIPTION:Fahrsicherheitstraining in Kaufbeuren für Beschäftige in der L
 ebenhilfe Ostallgäu-Kaufbeuren.\nAnmeldung nur über die Sportabteilung de
 r Lebenhilfe - Markus Reichart\nhttps://touren-termine.adfc.de/radveranst
 altung/174251-fahrsicherheitstraining-2-lebenshilfe-in-kf
DTEND:20260522T143000Z
DTSTAMP:20260419T155555Z
DTSTART:20260522T113000Z
LOCATION:Wertachtal-Werkstätten\, Betriebshof\, Hans-Böckler-Straße\, 8760
 0 Kaufbeuren
SEQUENCE:0
SUMMARY:Fahrsicherheitstraining 2 - Lebenshilfe in KF
UID:8b2ddf6a-2dd3-45e5-aba7-14656d4b6f57
URL:https://touren-termine.adfc.de/radveranstaltung/174251-fahrsicherheits
 training-2-lebenshilfe-in-kf
END:VEVENT
END:VCALENDAR
