BEGIN:VCALENDAR
PRODID:-//github.com/rianjs/ical.net//NONSGML ical.net 4.0//EN
VERSION:2.0
BEGIN:VEVENT
DESCRIPTION:Am Sonntag\, 13. Oktober 2024 von 11 bis 16 Uhr informiert uns
 er „Team Süd“ über aktuelle Themen zum Radverkehr.\nhttps://touren-termin
 e.adfc.de/radveranstaltung/139753-aktionstag-am-radweg-amiche-in-mommenhe
 im
DTEND:20241013T140000Z
DTSTAMP:20260421T155932Z
DTSTART:20241013T090000Z
LOCATION:Am Amiche in Mommenheim\, Kreuzung Herrweg\, 55278 Landkreis Main
 z-Bingen
SEQUENCE:0
SUMMARY:Aktionstag am Radweg „Amiche“ in Mommenheim
UID:2bbfb0a6-136b-41cc-95e7-33f26b513483
URL:https://touren-termine.adfc.de/radveranstaltung/139753-aktionstag-am-r
 adweg-amiche-in-mommenheim
END:VEVENT
END:VCALENDAR
