BEGIN:VCALENDAR
PRODID:-//github.com/rianjs/ical.net//NONSGML ical.net 4.0//EN
VERSION:2.0
BEGIN:VEVENT
DESCRIPTION:Diese Tour mit Ausgangspunkt Odenhausen (Lahn) und Zielort Zie
 genhain ist Teil einer Sternfahrt\, die der Landrat des Schwalm-Eder-Krei
 ses in Kooperation mit dem ADFC HEF-ROF/Schwalm-Eder anbietet.\nhttps://t
 ouren-termine.adfc.de/radveranstaltung/163344-tour-6-sternfahrt-zum-aufta
 kt-stadtradeln-sek
DTEND:20250524T130000Z
DTSTAMP:20260421T102016Z
DTSTART:20250524T080500Z
LOCATION:K 26\, an der Lahnbrücke\, Odenhausen\, 35457 Landkreis Gießen
SEQUENCE:0
SUMMARY:Tour 6 - Sternfahrt zum Auftakt Stadtradeln SEK
UID:595bc31a-e73d-4f94-bea6-0f29a09574a4
URL:https://touren-termine.adfc.de/radveranstaltung/163344-tour-6-sternfah
 rt-zum-auftakt-stadtradeln-sek
END:VEVENT
END:VCALENDAR
