BEGIN:VCALENDAR
PRODID:-//github.com/rianjs/ical.net//NONSGML ical.net 4.0//EN
VERSION:2.0
BEGIN:VEVENT
DESCRIPTION:Von Stadthagen über Bückeburg nach Minden zur Schachtschleuse 
 und der imposanten Kanalbrücke über die Weser. Auf dem Weserradweg bis Pe
 tershagen\, weiter über Jössen\, Ilserheide\, Wiedensahl nach Stadth\nhtt
 ps://touren-termine.adfc.de/radveranstaltung/130345-zum-wasserstrassenkre
 uz-in-minden
DTEND:20241006T150000Z
DTSTAMP:20260420T175740Z
DTSTART:20241006T080000Z
LOCATION:Am Markt 1\, 31655 Stadthagen
SEQUENCE:0
SUMMARY:Zum Wasserstraßenkreuz in Minden
UID:bf4864f0-5ef6-46b2-8af4-4889b095f406
URL:https://touren-termine.adfc.de/radveranstaltung/130345-zum-wasserstras
 senkreuz-in-minden
END:VEVENT
END:VCALENDAR
