BEGIN:VCALENDAR
PRODID:-//github.com/rianjs/ical.net//NONSGML ical.net 4.0//EN
VERSION:2.0
BEGIN:VEVENT
DESCRIPTION:Die Stadtteilgruppe Lichtenberg trifft sich jeden 1. Donnersta
 g im Monat.\nFahrradinteressierte aus Lichtenberg\, die mehr über unsere 
 Arbeit erfahren bzw. mitmachen möchten\, sind herzlich willkommen.\nhttps
 ://touren-termine.adfc.de/radveranstaltung/123217-treffen-der-stadtteilgr
 uppe-lichtenberg
DTEND:20240307T200000Z
DTSTAMP:20260420T115823Z
DTSTART:20240307T180000Z
LOCATION:Interkultureller Garten Lichtenberg\, Liebenwalder Straße 12 - 16
 \, 13055 Berlin
SEQUENCE:0
SUMMARY:Treffen der Stadtteilgruppe Lichtenberg
UID:79bb3329-1716-4f93-8876-49206d40b1c8
URL:https://touren-termine.adfc.de/radveranstaltung/123217-treffen-der-sta
 dtteilgruppe-lichtenberg
END:VEVENT
END:VCALENDAR
