BEGIN:VCALENDAR
PRODID:-//github.com/rianjs/ical.net//NONSGML ical.net 4.0//EN
VERSION:2.0
BEGIN:VEVENT
DESCRIPTION:Über Stock und Stein am Abend? Das bieten wir bei unseren MTB-
 Feierabendtouren jeden 2. und 4. Mittwoch im Monat rund um Bietigheim-Bis
 singen.\nhttps://touren-termine.adfc.de/radveranstaltung/182820-bietighei
 mbissinger-mountainbikefeierabendtouren
DTEND:20260610T190000Z
DTSTAMP:20260425T194842Z
DTSTART:20260610T163000Z
LOCATION:Enzpavillon\, 74321 Bietigheim-Bissingen
SEQUENCE:0
SUMMARY:Bietigheim-Bissinger Mountainbike-Feierabendtouren
UID:3fe1e57d-eacd-4f73-b9b1-c37c3b7a0f59
URL:https://touren-termine.adfc.de/radveranstaltung/182820-bietigheimbissi
 nger-mountainbikefeierabendtouren
END:VEVENT
END:VCALENDAR
