BEGIN:VCALENDAR
PRODID:-//github.com/rianjs/ical.net//NONSGML ical.net 4.0//EN
VERSION:2.0
BEGIN:VEVENT
DESCRIPTION:Radlertreff ab Juli im Glossner Bräustübl!\nhttps://touren-ter
 mine.adfc.de/radveranstaltung/135871-radlertreff
DTEND:20240726T200000Z
DTSTAMP:20260425T021617Z
DTSTART:20240726T170000Z
LOCATION:Glossner Bräustübl\, Schwesterhausgasse 9\, 92318 Neumarkt in der
  Oberpfalz
SEQUENCE:0
SUMMARY:Radlertreff
UID:256be884-52ee-484e-a70a-4fcae1a7c9ae
URL:https://touren-termine.adfc.de/radveranstaltung/135871-radlertreff
END:VEVENT
END:VCALENDAR
