BEGIN:VCALENDAR
PRODID:-//github.com/rianjs/ical.net//NONSGML ical.net 4.0//EN
VERSION:2.0
BEGIN:VEVENT
DESCRIPTION:Mahnwache für die in der Langenhorner Chaussee / Stockflethweg
  getötete Radfahrerin.\nhttps://touren-termine.adfc.de/radveranstaltung/1
 63562-mahnwache-fur-getotete-radfahrerin
DTEND:20250422T160000Z
DTSTAMP:20260420T232945Z
DTSTART:20250422T150000Z
LOCATION:Langenhorner Chaussee 659\, 22419 Hamburg
SEQUENCE:0
SUMMARY:Mahnwache für getötete Radfahrerin
UID:6130e5ba-3422-4d46-ba4c-3327ddae992b
URL:https://touren-termine.adfc.de/radveranstaltung/163562-mahnwache-fur-g
 etotete-radfahrerin
END:VEVENT
END:VCALENDAR
