BEGIN:VCALENDAR
PRODID:-//github.com/rianjs/ical.net//NONSGML ical.net 4.0//EN
VERSION:2.0
BEGIN:VEVENT
DESCRIPTION:Fahrsicherheitstraining für Radler/innen Ü50 mit vielen Tipps 
 und Tricks\, wie Sie leichter mit dem E-Bike zurechtkommen.\nAnmeldeschlu
 ss: Mi 27.03.2024.   Mit Infostand und Fahrradcodierung\nhttps://touren-t
 ermine.adfc.de/radveranstaltung/114824-u50pedelecfahrsicherheitstraining-
 codierung
DTEND:20240406T130000Z
DTSTAMP:20260419T155729Z
DTSTART:20240406T070000Z
LOCATION:Honoldstraße\, 87600 Kaufbeuren
SEQUENCE:0
SUMMARY:Ü50-Pedelec-Fahrsicherheits-Training + Codierung
UID:f6e5a756-bc49-4d2e-946d-f447a16a6c01
URL:https://touren-termine.adfc.de/radveranstaltung/114824-u50pedelecfahrs
 icherheitstraining-codierung
END:VEVENT
END:VCALENDAR
