BEGIN:VCALENDAR
PRODID:-//github.com/rianjs/ical.net//NONSGML ical.net 4.0//EN
VERSION:2.0
BEGIN:VEVENT
DESCRIPTION:Dienstags & Donnerstags zwischen 18:00 und 20:00 Uhr kann dort
  jeder\, sein Fahrrad eigenverantwortlich selbst reparieren - wenn nötig 
 unter Anleitung oder Mithilfe unsere Werkstattteams\nhttps://touren-termi
 ne.adfc.de/radveranstaltung/165980-selbsthilfewerkstatt-ist-geoffnet
DTEND:20250731T180000Z
DTSTAMP:20260424T150649Z
DTSTART:20250731T160000Z
LOCATION:ADFC-Selbsthilfewerkstatt\, Weinweg 2\, 93049 Regensburg
SEQUENCE:0
SUMMARY:Selbsthilfewerkstatt ist geöffnet
UID:b3d38172-5f10-42cf-a14b-d7f8758a9721
URL:https://touren-termine.adfc.de/radveranstaltung/165980-selbsthilfewerk
 statt-ist-geoffnet
END:VEVENT
END:VCALENDAR
