BEGIN:VCALENDAR
PRODID:-//github.com/rianjs/ical.net//NONSGML ical.net 4.0//EN
VERSION:2.0
BEGIN:VEVENT
DESCRIPTION:Feierabendtouren in die nähere Umgebung\, Distanz 20 - 30 km\,
  oft mit Einkehr.\nhttps://touren-termine.adfc.de/radveranstaltung/116336
 -gilchinger-feierabendtour
DTEND:20240726T180000Z
DTSTAMP:20260425T145730Z
DTSTART:20240726T150000Z
LOCATION:Marktplatz\, 82205 Gilching
SEQUENCE:0
SUMMARY:Gilchinger Feierabendtour
UID:cc857e16-c179-4f70-8c17-10ee713e1ffe
URL:https://touren-termine.adfc.de/radveranstaltung/116336-gilchinger-feie
 rabendtour
END:VEVENT
END:VCALENDAR
