BEGIN:VCALENDAR
PRODID:-//github.com/rianjs/ical.net//NONSGML ical.net 4.0//EN
VERSION:2.0
BEGIN:VEVENT
DESCRIPTION:Wir bieten verschiedene Strecken zwischen 25 km und 35 km Läng
 e mit einer Fahrtdauer von ca. 2 Stunden an.\nhttps://touren-termine.adfc
 .de/radveranstaltung/116464-feierabendtour-parkplatz-donauarena
DTEND:20240703T190000Z
DTSTAMP:20260420T082526Z
DTSTART:20240703T160000Z
LOCATION:östlicher Parkplatz der Donauarena\, Walhalla-Allee\, 93055 Regen
 sburg
SEQUENCE:0
SUMMARY:Feierabendtour: Parkplatz Donau-Arena
UID:e8a53cb9-d856-4731-8001-14bec285750b
URL:https://touren-termine.adfc.de/radveranstaltung/116464-feierabendtour-
 parkplatz-donauarena
END:VEVENT
END:VCALENDAR
