BEGIN:VCALENDAR
PRODID:-//github.com/rianjs/ical.net//NONSGML ical.net 4.0//EN
VERSION:2.0
BEGIN:VEVENT
DESCRIPTION:Mehr Sicherheit für den Radverkehr durch StVO konforme Seitena
 bstände beim Überholen durch Kraftfahrzeuge\nhttps://touren-termine.adfc.
 de/radveranstaltung/150487-projektgruppe-openbikesensor
DTEND:20251013T163000Z
DTSTAMP:20260420T231256Z
DTSTART:20251013T163000Z
LOCATION:Koppel 34-36\, 20099 Hamburg
SEQUENCE:0
SUMMARY:Projektgruppe OpenBikeSensor
UID:71800bb3-4f4d-476d-b42a-318ffc0f5fa6
URL:https://touren-termine.adfc.de/radveranstaltung/150487-projektgruppe-o
 penbikesensor
END:VEVENT
END:VCALENDAR
