BEGIN:VCALENDAR
PRODID:-//github.com/rianjs/ical.net//NONSGML ical.net 4.0//EN
VERSION:2.0
BEGIN:VEVENT
DESCRIPTION:Heute radeln wir von Dachau aus nach Südwesten Richtung Eschen
 ried und die Langwieder Seen in einer weiten Schleife zur Inselmühle\; zu
 rück nehmen wir dann den Würmradweg\nhttps://touren-termine.adfc.de/radve
 ranstaltung/125179-fat-inselmuhle
DTEND:20240828T200000Z
DTSTAMP:20260421T100716Z
DTSTART:20240828T160000Z
LOCATION:Bike & Ride Fahrradparkhaus\, 85221 Dachau
SEQUENCE:0
SUMMARY:FAT Inselmühle
UID:f1b3e57e-5ff4-475b-aaa4-040570e16032
URL:https://touren-termine.adfc.de/radveranstaltung/125179-fat-inselmuhle
END:VEVENT
END:VCALENDAR
