BEGIN:VCALENDAR
PRODID:-//github.com/rianjs/ical.net//NONSGML ical.net 4.0//EN
VERSION:2.0
BEGIN:VEVENT
DESCRIPTION:Wieder! Fürs bessere Radfahren auch in Langenhagen: "Runder Ti
 sch Radverkehr" im Regionshaus am Aegi\nhttps://touren-termine.adfc.de/ra
 dveranstaltung/172097-auch-fur-langenhagen-runder-tisch-radverkehr
DTEND:20251215T183000Z
DTSTAMP:20260424T173204Z
DTSTART:20251215T160000Z
LOCATION:Regionshaus\, 6. Stock\, Raum 602: Hildesheimer Straße 18\, 30169
  Hannover
SEQUENCE:0
SUMMARY:Auch für Langenhagen: "Runder Tisch Radverkehr"ⓇⓈ
UID:183853fe-8c9a-414e-ba09-74a07f5a7eaa
URL:https://touren-termine.adfc.de/radveranstaltung/172097-auch-fur-langen
 hagen-runder-tisch-radverkehr
END:VEVENT
END:VCALENDAR
