BEGIN:VCALENDAR
PRODID:-//github.com/rianjs/ical.net//NONSGML ical.net 4.0//EN
VERSION:2.0
BEGIN:VEVENT
DESCRIPTION:Vorstand und Geschäftsstelle laden alle interessierten Mitglie
 der im ADFC zum Neuaktiventreffen ein!\nhttps://touren-termine.adfc.de/ra
 dveranstaltung/169964-neuaktiventreffen-2025
DTEND:20251011T160000Z
DTSTAMP:20260421T024243Z
DTSTART:20251011T130000Z
LOCATION:Koppel 34-36\, 20099 Hamburg
SEQUENCE:0
SUMMARY:Neuaktiventreffen 2025
UID:2ad6e814-b683-4a27-b936-04a091840788
URL:https://touren-termine.adfc.de/radveranstaltung/169964-neuaktiventreff
 en-2025
END:VEVENT
END:VCALENDAR
