BEGIN:VCALENDAR
PRODID:-//github.com/rianjs/ical.net//NONSGML ical.net 4.0//EN
VERSION:2.0
BEGIN:VEVENT
DESCRIPTION:Verschiedene Geschwindigkeitsgruppen: Pättkes-Tour (15-18 km/h
 )\, Flotte Tour (18-21 km/h)\, Schnelle Tour (21-25 km/h).\nZiel und Rout
 e werden beim Start bekannt gegeben.\nhttps://touren-termine.adfc.de/radv
 eranstaltung/179997-feierabendtour-rund-um-coesfeld-mai-bis-august
DTEND:20260824T190000Z
DTSTAMP:20260419T232926Z
DTSTART:20260824T170000Z
LOCATION:Marktplatz\, 48653 Coesfeld
SEQUENCE:0
SUMMARY:Feierabendtour rund um Coesfeld: Mai bis August
UID:7a41415b-e949-4a12-b474-5dd1554a3e7b
URL:https://touren-termine.adfc.de/radveranstaltung/179997-feierabendtour-
 rund-um-coesfeld-mai-bis-august
END:VEVENT
END:VCALENDAR
