BEGIN:VCALENDAR
PRODID:-//github.com/rianjs/ical.net//NONSGML ical.net 4.0//EN
VERSION:2.0
BEGIN:VEVENT
DESCRIPTION:Cargobiker*innen und Hamburg kennenlernen!\nhttps://touren-ter
 mine.adfc.de/radveranstaltung/144515-pedale-picknick
DTEND:20241201T150000Z
DTSTAMP:20260421T055033Z
DTSTART:20241201T120000Z
LOCATION:Hagenbeckstraße 124\, 22527 Hamburg
SEQUENCE:0
SUMMARY:Pedale & Picknick
UID:81f675fe-31ec-4a2c-9899-b9f720bc573d
URL:https://touren-termine.adfc.de/radveranstaltung/144515-pedale-picknick
END:VEVENT
END:VCALENDAR
