BEGIN:VCALENDAR
PRODID:-//github.com/rianjs/ical.net//NONSGML ical.net 4.0//EN
VERSION:2.0
BEGIN:VEVENT
DESCRIPTION:Thimo Weitemeier\, heute Stadtbaurat der Stadt Osnabrück und V
 orsitzender der AGFK Niedersachsen\, ist am 18. Mai zu Gast in Hameln.\nh
 ttps://touren-termine.adfc.de/radveranstaltung/198451-wege-zur-fahrradfre
 undlichen-stadt-nordhorn
DTEND:20260518T190000Z
DTSTAMP:20260423T105156Z
DTSTART:20260518T160000Z
LOCATION:Zedita im Bahnhof\,\, 31785 Hameln
SEQUENCE:0
SUMMARY:Wege zur fahrradfreundlichen Stadt Nordhorn
UID:7aee96d2-a976-44f3-923c-a97638e36f29
URL:https://touren-termine.adfc.de/radveranstaltung/198451-wege-zur-fahrra
 dfreundlichen-stadt-nordhorn
END:VEVENT
END:VCALENDAR
