BEGIN:VCALENDAR
PRODID:-//github.com/rianjs/ical.net//NONSGML ical.net 4.0//EN
VERSION:2.0
BEGIN:VEVENT
DESCRIPTION:Schnelle Runde von Ahrensburg zum Hamburger Energieberg und an
  der Elbe entlang.\nhttps://touren-termine.adfc.de/radveranstaltung/89423
 -fahrt-zum-energieberg
DTEND:20230625T150000Z
DTSTAMP:20260423T015316Z
DTSTART:20230625T070000Z
LOCATION:Bahnhof\, Bahnhofstraße 13\, 22926 Ahrensburg
SEQUENCE:0
SUMMARY:Fahrt zum Energieberg
UID:d245af7b-9269-4c5d-8038-cbf8ad15bf4a
URL:https://touren-termine.adfc.de/radveranstaltung/89423-fahrt-zum-energi
 eberg
END:VEVENT
END:VCALENDAR
