BEGIN:VCALENDAR
PRODID:-//github.com/rianjs/ical.net//NONSGML ical.net 4.0//EN
VERSION:2.0
BEGIN:VEVENT
DESCRIPTION:30 - 35 km\nhttps://touren-termine.adfc.de/radveranstaltung/14
 2590-kurztour
DTEND:20250702T180000Z
DTSTAMP:20260423T105554Z
DTSTART:20250702T160000Z
LOCATION:Rathaus\, Fuhrberger Straße 3\, 30938 Burgwedel
SEQUENCE:0
SUMMARY:Kurztour
UID:ed6e658e-4f3c-4df3-88e9-440834952957
URL:https://touren-termine.adfc.de/radveranstaltung/142590-kurztour
END:VEVENT
END:VCALENDAR
