BEGIN:VCALENDAR
PRODID:-//github.com/rianjs/ical.net//NONSGML ical.net 4.0//EN
VERSION:2.0
BEGIN:VEVENT
DESCRIPTION:Vor dem Radlerstammtisch treffen sich die Aktiven und die Vors
 tandschaft.\nhttps://touren-termine.adfc.de/radveranstaltung/174091-aktiv
 entreff
DTEND:20260305T180000Z
DTSTAMP:20260419T155605Z
DTSTART:20260305T170000Z
LOCATION:Gasthaus Belfort\, Mindelheimer Straße 35\, 87600 Kaufbeuren
SEQUENCE:0
SUMMARY:Aktiventreff
UID:a3c2a50f-d1b1-4852-9828-162884b39554
URL:https://touren-termine.adfc.de/radveranstaltung/174091-aktiventreff
END:VEVENT
END:VCALENDAR
