BEGIN:VCALENDAR
PRODID:-//github.com/rianjs/ical.net//NONSGML ical.net 4.0//EN
VERSION:2.0
BEGIN:VEVENT
DESCRIPTION:Radlertreff in entspannter Atmosphäre\nhttps://touren-termine.
 adfc.de/radveranstaltung/95401-afterwork
DTEND:20230621T200000Z
DTSTAMP:20260424T143909Z
DTSTART:20230621T163000Z
LOCATION:Silberburgstraße 84\, 70176 Stuttgart
SEQUENCE:0
SUMMARY:AfterWork
UID:b2b61fdd-bda2-46a2-9a7f-4f75739fc1ae
URL:https://touren-termine.adfc.de/radveranstaltung/95401-afterwork
END:VEVENT
END:VCALENDAR
