BEGIN:VCALENDAR
PRODID:-//github.com/rianjs/ical.net//NONSGML ical.net 4.0//EN
VERSION:2.0
BEGIN:VEVENT
DESCRIPTION:Berliner Fahrradwoche: An der Spree entlang nach Ruhleben\, zu
 r Murellenschlucht\, zu den Tiefwerder Wiesen\, zum Teufelsberg im Grunew
 ald und über Wilmersdorf zurück\nhttps://touren-termine.adfc.de/radverans
 taltung/112421-berliner-fahrradwoche-spree-und-teufelsberg
DTEND:20240730T150000Z
DTSTAMP:20260425T133330Z
DTSTART:20240730T120000Z
LOCATION:Potsdamer Platz\, historische Ampelanlage\, 10785 Berlin
SEQUENCE:0
SUMMARY:Berliner Fahrradwoche: Spree und Teufelsberg
UID:975e470a-5f16-4939-9a19-08a2dc8bf6eb
URL:https://touren-termine.adfc.de/radveranstaltung/112421-berliner-fahrra
 dwoche-spree-und-teufelsberg
END:VEVENT
END:VCALENDAR
