BEGIN:VCALENDAR
PRODID:-//github.com/rianjs/ical.net//NONSGML ical.net 4.0//EN
VERSION:2.0
BEGIN:VEVENT
DESCRIPTION:Neben einem Fahrsicherheitsparkour und Quiz\, dürfen sich die 
 Gäste auf ein buntes Aktionsprogramm mit Infoständen\, Mitmachaktionen un
 d kostenlosen Serviceangeboten rund ums Fahrrad freuen.\nhttps://touren-t
 ermine.adfc.de/radveranstaltung/102886-radspass-beim-radkulturtag-in-fell
 bach
DTEND:20230702T150000Z
DTSTAMP:20260423T053343Z
DTSTART:20230702T093000Z
LOCATION:Rathaus Fellbach\, 70734 Fellbach
SEQUENCE:0
SUMMARY:Radspaß beim Radkulturtag in Fellbach
UID:2f9a6efa-f94a-4b2f-9c6e-cb983936bd40
URL:https://touren-termine.adfc.de/radveranstaltung/102886-radspass-beim-r
 adkulturtag-in-fellbach
END:VEVENT
END:VCALENDAR
