BEGIN:VCALENDAR
PRODID:-//github.com/rianjs/ical.net//NONSGML ical.net 4.0//EN
VERSION:2.0
BEGIN:VEVENT
DESCRIPTION:Die Ortsgruppe Kempen des ADFC Krefeld - Kreis Viersen bietet 
 den Service der Fahrradcodierung an.\nhttps://touren-termine.adfc.de/radv
 eranstaltung/190658-fahrradcodierung-zur-diebstahlspravention
DTEND:20260314T120000Z
DTSTAMP:20260421T102219Z
DTSTART:20260314T090000Z
LOCATION:Buttermarkt\, 47906 Kempen
SEQUENCE:0
SUMMARY:Fahrrad-Codierung zur Diebstahlsprävention
UID:07da2880-989c-4bd0-8d91-f2e4ae8baac0
URL:https://touren-termine.adfc.de/radveranstaltung/190658-fahrradcodierun
 g-zur-diebstahlspravention
END:VEVENT
END:VCALENDAR
