BEGIN:VCALENDAR
PRODID:-//github.com/rianjs/ical.net//NONSGML ical.net 4.0//EN
VERSION:2.0
BEGIN:VEVENT
DESCRIPTION:Rauf aufs Rad für eine Spritztour in die Umgebung von Gauting!
 \nWöchentlich wechselnd naturkundliche Touren und Cappuccino-Touren.\nHeu
 te: Zur Waldwirtschaft in Großhesselohe\nhttps://touren-termine.adfc.de/r
 adveranstaltung/107230-wochentliche-nachmittagstour-in-gauting
DTEND:20230926T150000Z
DTSTAMP:20260425T151035Z
DTSTART:20230926T120000Z
LOCATION:Rathaus\, Bahnhofstraße 7\, 82131 Gauting
SEQUENCE:0
SUMMARY:Wöchentliche Nachmittagstour in Gauting
UID:6f40e1ca-27ff-4455-a80d-67865f4a6e3c
URL:https://touren-termine.adfc.de/radveranstaltung/107230-wochentliche-na
 chmittagstour-in-gauting
END:VEVENT
END:VCALENDAR
