BEGIN:VCALENDAR
PRODID:-//github.com/rianjs/ical.net//NONSGML ical.net 4.0//EN
VERSION:2.0
BEGIN:VEVENT
DESCRIPTION:Radtour von Oranienburg zu den OPEN STUDIOS 2023 im Wald auf d
 em Künstlerhof Frohnau\nhttps://touren-termine.adfc.de/radveranstaltung/1
 06151-25-jahre-kunstlerhof-frohnau
DTEND:20230902T160000Z
DTSTAMP:20260425T232028Z
DTSTART:20230902T100000Z
LOCATION:Bahnhof\, 16515 Oranienburg
SEQUENCE:0
SUMMARY:25 Jahre Künstlerhof Frohnau
UID:2fced554-bc3e-42dd-9708-5166c2049fd6
URL:https://touren-termine.adfc.de/radveranstaltung/106151-25-jahre-kunstl
 erhof-frohnau
END:VEVENT
END:VCALENDAR
