BEGIN:VCALENDAR
PRODID:-//github.com/rianjs/ical.net//NONSGML ical.net 4.0//EN
VERSION:2.0
BEGIN:VEVENT
DESCRIPTION:Lernt mit uns die Freiheit des Fahrradfahrens kennen. Gemeinsa
 m üben wir das Fahren und Bremsen und die Verkehrsregeln. - Details und A
 nmeldung für 11-13 Uhr o. 13:30-15:30 Uhr siehe Beschreibung\nhttps://tou
 ren-termine.adfc.de/radveranstaltung/107049-frauenfahrradschule-mit-spass
 -radfahren-lernen
DTEND:20231118T143000Z
DTSTAMP:20260424T050533Z
DTSTART:20231118T100000Z
LOCATION:Jugendverkehrsschule\, Baikalstraße 4\, 10319 Berlin
SEQUENCE:0
SUMMARY:FrauenFahrradSchule: mit Spaß Radfahren lernen
UID:0f78ffd9-3a30-4739-bc2a-420478b75bdc
URL:https://touren-termine.adfc.de/radveranstaltung/107049-frauenfahrradsc
 hule-mit-spass-radfahren-lernen
END:VEVENT
END:VCALENDAR
