BEGIN:VCALENDAR
PRODID:-//github.com/rianjs/ical.net//NONSGML ical.net 4.0//EN
VERSION:2.0
BEGIN:VEVENT
DESCRIPTION:Radtour im Rahmen des Jubiläums "25 Jahre Route der Industrier
 kultur"\nhttps://touren-termine.adfc.de/radveranstaltung/134877-rvr-somme
 rtouren-24-tour-5-mulheim-oberhausen
DTEND:20240615T150000Z
DTSTAMP:20260421T102743Z
DTSTART:20240615T080000Z
LOCATION:Aquarius Wassermuseum\, 45476 Mülheim an der Ruhr
SEQUENCE:0
SUMMARY:[RVR SommerTouren 24] TOUR 5: Mülheim – Oberhausen
UID:a075b0ed-8762-4d6e-9350-e90ce4f3970c
URL:https://touren-termine.adfc.de/radveranstaltung/134877-rvr-sommertoure
 n-24-tour-5-mulheim-oberhausen
END:VEVENT
END:VCALENDAR
