BEGIN:VCALENDAR
PRODID:-//github.com/rianjs/ical.net//NONSGML ical.net 4.0//EN
VERSION:2.0
BEGIN:VEVENT
DESCRIPTION:Das ADFC-Aktiventreffen bietet die Möglichkeit gemeinsam über 
 aktuelle Themen zu diskutieren\, Ideen auszutauschen und aktiv an unserer
  Vereinsarbeit teilzuhaben.\nhttps://touren-termine.adfc.de/radveranstalt
 ung/167277-adfcaktiventreffen
DTEND:20251022T190000Z
DTSTAMP:20260424T160415Z
DTSTART:20251022T170000Z
LOCATION:Kunstraum im Hundertwasser-Bahnhof\, Friedensreich-Hundertwasser-
 Platz 1\, 29525 Uelzen
SEQUENCE:0
SUMMARY:ADFC-Aktiventreffen
UID:79066aa8-09ed-44c6-91dd-2e9aff6fa56d
URL:https://touren-termine.adfc.de/radveranstaltung/167277-adfcaktiventref
 fen
END:VEVENT
END:VCALENDAR
