BEGIN:VCALENDAR
PRODID:-//github.com/rianjs/ical.net//NONSGML ical.net 4.0//EN
VERSION:2.0
BEGIN:VEVENT
DESCRIPTION:In  diesem Kurs wird gezeigt\, wie kleinere Mängel selbst beho
 ben und größere Reparaturen vermieden werden können.\nEigenes Fahrrad mit
 zubringen. ausgebucht - weiterer Termin: 24.02.2024\nhttps://touren-termi
 ne.adfc.de/radveranstaltung/114830-pannenkurs-basic-reparaturkurs-kf-ausg
 ebucht
DTEND:20240203T170000Z
DTSTAMP:20260419T155629Z
DTSTART:20240203T130000Z
LOCATION:Füssener Straße 10\, 87600 Kaufbeuren
SEQUENCE:0
SUMMARY:Pannenkurs Basic - Reparaturkurs KF - ausgebucht
UID:c1bbaefd-9b75-4978-a8a6-5f2d54fdf487
URL:https://touren-termine.adfc.de/radveranstaltung/114830-pannenkurs-basi
 c-reparaturkurs-kf-ausgebucht
END:VEVENT
END:VCALENDAR
